BEGIN:VCALENDAR
VERSION:2.0
PRODID:-//wp-events-plugin.com//7.2.3.1//EN
TZID:Europe/Berlin
X-WR-TIMEZONE:Europe/Berlin
BEGIN:VEVENT
UID:1106@ucb-hamburg.de
DTSTART;TZID=Europe/Berlin:20260420T170000
DTEND;TZID=Europe/Berlin:20260420T180000
DTSTAMP:20260419T201059Z
URL:https://ucb-hamburg.de/termin/schnuppertauchen-im-hallenbad-4
SUMMARY:Schnuppertauchen im Hallenbad
DESCRIPTION:Termin: Montag den 20.04.2026 17:00 - 18:00 Uhr\n\nOrt: Billeba
 d (Bergedorf)\, Reetwerder 25\, 21029 Hamburg \n\nVoraussetzungen: Mindest
 alter: 14 Jahre Minderjährige benötigen das schriftliche Einverständnis
  aller Erziehungsberechtigten. Der Teilnehmer muss schwimmen können.\n\nE
 rklärung zum Gesundheitszustand.\n\nZielgruppe: Alle Interessierten die d
 ie Voraussetzung erfüllen\n\nTeilnehmerzahl: Maximal 3 Teilnehmer\n\nAusr
 ichter: Unterwasserclub Bergedorf e.V.\n\nAnmeldung: Kurzfristig möglich 
 unter: Karin Bodusch Mail: jugendwart@ucb-hamburg.de\n\n\nSonstiges: Schwi
 mmsachen und ein T-Shirt um es unter dem Tauchgerät zu tragen sind mitzub
 ringen. Wenn vorhanden: Maske\, Schnorchel\, Flossen ebenfalls mitbringen.
 \n\nDatenschutz: Mit der Anmeldung stimmt der sich anmeldende Teilnehmer/d
 ie sich anmeldende Teilnehmerin der Speicherung der persönlichen Daten zw
 ecks Durchführung der oben beschrieben Veranstaltung zu. Datenschutz-Hinw
 eis nach DSGVO: www.vdst.de/download/datenschutzerklaerung-teilnahme-vdst-
 ausbildungsveranstaltung/\n
ATTACH;FMTTYPE=image/jpeg:https://ucb-hamburg.de/wp-content/uploads/2025/0
 5/Ausnildung-scaled.jpg
END:VEVENT
BEGIN:VTIMEZONE
TZID:Europe/Berlin
X-LIC-LOCATION:Europe/Berlin
BEGIN:DAYLIGHT
DTSTART:20260329T030000
TZOFFSETFROM:+0100
TZOFFSETTO:+0200
TZNAME:CEST
END:DAYLIGHT
END:VTIMEZONE
END:VCALENDAR